BEGIN:VCALENDAR
VERSION:2.0
PRODID:-//Restaurant Asia Ratskeller//NONSGML kigkonsult.se iCalcreator 2.1
 6.12//
METHOD:PUBLISH
X-MS-OLK-FORCEINSPECTOROPEN:TRUE
BEGIN:VEVENT
UID:20260420T193757CEST-2274uCmf4L@Restaurant Asia Ratskeller
DTSTAMP:20260420T173757Z
DESCRIPTION:Es geten unsere normalen Öffnungszeiten\n
DTSTART:20191014T000000
DTEND:20191014T000000
ORGANIZER:MAILTO:Restaurant Asia Ratskeller <info@asiaratskeller.ch>
SUMMARY:Chilbimontag - geöffnet
END:VEVENT
END:VCALENDAR
