BEGIN:VCALENDAR
VERSION:2.0
PRODID:-//Restaurant Asia Ratskeller//NONSGML kigkonsult.se iCalcreator 2.1
 6.12//
METHOD:PUBLISH
X-MS-OLK-FORCEINSPECTOROPEN:TRUE
BEGIN:VEVENT
UID:20260420T211748CEST-4153VjDzvs@Restaurant Asia Ratskeller
DTSTAMP:20260420T191748Z
DESCRIPTION:Neu Jahr 11:30 Uhr- 14:00 Uhr Geschlossen\nab 17:30 Uhr bis 23:
 00 Uhr Geöffnet
DTSTART:20200101T070000
DTEND:20200101T230000
ORGANIZER:MAILTO:Restaurant Asia Ratskeller <info@asiaratskeller.ch>
SUMMARY:Neu Jahr- ab 17:30 bis 23:00 Uhr Geöffnet 
END:VEVENT
END:VCALENDAR
