BEGIN:VCALENDAR
VERSION:2.0
PRODID:-//Restaurant Asia Ratskeller//NONSGML kigkonsult.se iCalcreator 2.1
 6.12//
METHOD:PUBLISH
X-MS-OLK-FORCEINSPECTOROPEN:TRUE
BEGIN:VEVENT
UID:20260420T211633CEST-8592zUmZNj@Restaurant Asia Ratskeller
DTSTAMP:20260420T191633Z
DESCRIPTION:Silvester 11:30 Uhr- 14:00 Uhr Geschlossen\nab 17:30 Uhr bis 24
 :00 Uhr Geöffnet
DTSTART:20191231T000000
DTEND:20191231T000000
ORGANIZER:MAILTO:Restaurant Asia Ratskeller <info@asiaratskeller.ch>
SUMMARY:Silvester - ab 17:30 bis 24:00 Uhr Geöffnet 
END:VEVENT
END:VCALENDAR
