BEGIN:VCALENDAR
VERSION:2.0
PRODID:-//Restaurant Asia Ratskeller//NONSGML kigkonsult.se iCalcreator 2.1
 6.12//
METHOD:PUBLISH
X-MS-OLK-FORCEINSPECTOROPEN:TRUE
BEGIN:VEVENT
UID:20260420T211626CEST-6980r955g7@Restaurant Asia Ratskeller
DTSTAMP:20260420T191626Z
DESCRIPTION:Heilige drei Könige - GESCHLOSSEN
DTSTART:20200106T060000
DTEND:20200107T060000
ORGANIZER:MAILTO:Restaurant Asia Ratskeller <info@asiaratskeller.ch>
SUMMARY:Heilige drei Könige - GESCHLOSSEN
END:VEVENT
END:VCALENDAR
