BEGIN:VCALENDAR
VERSION:2.0
PRODID:-//Restaurant Asia Ratskeller//NONSGML kigkonsult.se iCalcreator 2.1
 6.12//
METHOD:PUBLISH
X-MS-OLK-FORCEINSPECTOROPEN:TRUE
BEGIN:VEVENT
UID:20260420T211607CEST-5087n5cU7U@Restaurant Asia Ratskeller
DTSTAMP:20260420T191607Z
DESCRIPTION:Erste Fassnacht- GEÖFFNET
DTSTART:20200113T000000
DTEND:20200114T060000
ORGANIZER:MAILTO:Restaurant Asia Ratskeller <info@asiaratskeller.ch>
SUMMARY:Erste Fassnacht-GEÖFFNET
END:VEVENT
END:VCALENDAR
