BEGIN:VCALENDAR
VERSION:2.0
PRODID:-//Restaurant Asia Ratskeller//NONSGML kigkonsult.se iCalcreator 2.1
 6.12//
METHOD:PUBLISH
X-MS-OLK-FORCEINSPECTOROPEN:TRUE
BEGIN:VEVENT
UID:20260420T211127CEST-91219RlIH0@Restaurant Asia Ratskeller
DTSTAMP:20260420T191127Z
DESCRIPTION: GÜDELMONTAG - GEÖFFNET
DTSTART:20200224T000000
DTEND:20200225T235900
ORGANIZER:MAILTO:Restaurant Asia Ratskeller <info@asiaratskeller.ch>
SUMMARY:GÜDELMONTAG - GEÖFFNET
END:VEVENT
END:VCALENDAR
