BEGIN:VCALENDAR
VERSION:2.0
PRODID:-//Restaurant Asia Ratskeller//NONSGML kigkonsult.se iCalcreator 2.1
 6.12//
METHOD:PUBLISH
X-MS-OLK-FORCEINSPECTOROPEN:TRUE
BEGIN:VEVENT
UID:20260420T211626CEST-0290hCHwKj@Restaurant Asia Ratskeller
DTSTAMP:20260420T191626Z
DESCRIPTION:
DTSTART:20200521T000000
DTEND:20200521T235900
ORGANIZER:MAILTO:Restaurant Asia Ratskeller <info@asiaratskeller.ch>
SUMMARY:CHRISTI HIMMELFART - GEÖFFNET
END:VEVENT
END:VCALENDAR
