BEGIN:VCALENDAR
VERSION:2.0
PRODID:-//Restaurant Asia Ratskeller//NONSGML kigkonsult.se iCalcreator 2.1
 6.12//
METHOD:PUBLISH
X-MS-OLK-FORCEINSPECTOROPEN:TRUE
BEGIN:VEVENT
UID:20260420T211626CEST-288593kdkt@Restaurant Asia Ratskeller
DTSTAMP:20260420T191626Z
DESCRIPTION:Öffnungszeiten über Weihnachten und Neujahr 2020/2021\n\n24. De
 zember 20\nab 17:00 Uhr bis 23:00 Uhr\n\n\n31. Dezember 20 Silvester\nab 1
 7:00 Uhr bis 24:00 Uhr a la Carte Service\n\n \n\n1. Januar 2021\n17:00 Uh
 r bis 19:00 Uhr\nTake Away bis 20:00 Uhr\n\n \n\n6. Januar 2021 (durchgehe
 nd geöffnet)\n11:00 Uhr bis 19:00 Uhr\nTake Away bis 20:00 Uhr\n
DTSTART:20210101T000000
DTEND:20210101T235900
ORGANIZER:MAILTO:Restaurant Asia Ratskeller <info@asiaratskeller.ch>
SUMMARY:NEUJAHR - ab 17:00 GEÖFFNET
END:VEVENT
END:VCALENDAR
