BEGIN:VCALENDAR
VERSION:2.0
PRODID:-//Restaurant Asia Ratskeller//NONSGML kigkonsult.se iCalcreator 2.1
 6.12//
METHOD:PUBLISH
X-MS-OLK-FORCEINSPECTOROPEN:TRUE
BEGIN:VEVENT
UID:20260420T211753CEST-5278FTdu5O@Restaurant Asia Ratskeller
DTSTAMP:20260420T191753Z
DESCRIPTION:
DTSTART:20210319T000000
DTEND:20210319T235900
ORGANIZER:MAILTO:Restaurant Asia Ratskeller <info@asiaratskeller.ch>
SUMMARY:Josefstag - GEÖFFNET
END:VEVENT
END:VCALENDAR
