BEGIN:VCALENDAR
VERSION:2.0
PRODID:-//Restaurant Asia Ratskeller//NONSGML kigkonsult.se iCalcreator 2.1
 6.12//
METHOD:PUBLISH
X-MS-OLK-FORCEINSPECTOROPEN:TRUE
BEGIN:VEVENT
UID:20260420T211941CEST-07137dgL7o@Restaurant Asia Ratskeller
DTSTAMP:20260420T191941Z
DESCRIPTION:
DTSTART:20210402T000000
DTEND:20210402T235900
ORGANIZER:MAILTO:Restaurant Asia Ratskeller <info@asiaratskeller.ch>
SUMMARY:Karfreitag - GEÖFFNET
END:VEVENT
END:VCALENDAR
