BEGIN:VCALENDAR
VERSION:2.0
PRODID:-//Restaurant Asia Ratskeller//NONSGML kigkonsult.se iCalcreator 2.1
 6.12//
METHOD:PUBLISH
X-MS-OLK-FORCEINSPECTOROPEN:TRUE
BEGIN:VEVENT
UID:20260420T211951CEST-8531ZnGXZw@Restaurant Asia Ratskeller
DTSTAMP:20260420T191951Z
DESCRIPTION:
DTSTART:20210405T000000
DTEND:20210405T235900
ORGANIZER:MAILTO:Restaurant Asia Ratskeller <info@asiaratskeller.ch>
SUMMARY:Ostermontag - GESCHLOSSEN
END:VEVENT
END:VCALENDAR
