BEGIN:VCALENDAR
VERSION:2.0
PRODID:-//Restaurant Asia Ratskeller//NONSGML kigkonsult.se iCalcreator 2.1
 6.12//
METHOD:PUBLISH
X-MS-OLK-FORCEINSPECTOROPEN:TRUE
BEGIN:VEVENT
UID:20260420T211901CEST-2472rOzUpB@Restaurant Asia Ratskeller
DTSTAMP:20260420T191901Z
DESCRIPTION:
DTSTART:20211101T000000
DTEND:20211101T235900
ORGANIZER:MAILTO:Restaurant Asia Ratskeller <info@asiaratskeller.ch>
SUMMARY:Allerheiligen - GESCHLOSSEN
END:VEVENT
END:VCALENDAR
