BEGIN:VCALENDAR
VERSION:2.0
PRODID:-//Restaurant Asia Ratskeller//NONSGML kigkonsult.se iCalcreator 2.1
 6.12//
METHOD:PUBLISH
X-MS-OLK-FORCEINSPECTOROPEN:TRUE
BEGIN:VEVENT
UID:20260420T211951CEST-1651GXC5iA@Restaurant Asia Ratskeller
DTSTAMP:20260420T191951Z
DESCRIPTION:Vorweihnachtstag                                              g
 eschlossen\nFreitag\, 24. Dez. 21                                         
       \n
DTSTART:20211224T000000
DTEND:20211224T235900
ORGANIZER:MAILTO:Restaurant Asia Ratskeller <info@asiaratskeller.ch>
SUMMARY:Heiliger Abend - GESCHLOSSEN
END:VEVENT
END:VCALENDAR
