BEGIN:VCALENDAR
VERSION:2.0
PRODID:-//Restaurant Asia Ratskeller//NONSGML kigkonsult.se iCalcreator 2.1
 6.12//
METHOD:PUBLISH
X-MS-OLK-FORCEINSPECTOROPEN:TRUE
BEGIN:VEVENT
UID:20260420T211900CEST-7000X8Swal@Restaurant Asia Ratskeller
DTSTAMP:20260420T191900Z
DESCRIPTION:Weihnachten                                                    
                     Offen\n\nSamstag\, 25. Dez 21                         
    11:30 – 14:30 / 17:30 – 23:30\n\n\n
DTSTART:20211225T000000
DTEND:20211225T235900
ORGANIZER:MAILTO:Restaurant Asia Ratskeller <info@asiaratskeller.ch>
SUMMARY:Weihnachten - GEÖFFNET
END:VEVENT
END:VCALENDAR
