BEGIN:VCALENDAR
VERSION:2.0
PRODID:-//Restaurant Asia Ratskeller//NONSGML kigkonsult.se iCalcreator 2.1
 6.12//
METHOD:PUBLISH
X-MS-OLK-FORCEINSPECTOROPEN:TRUE
BEGIN:VEVENT
UID:20260420T211901CEST-5176HLFFeK@Restaurant Asia Ratskeller
DTSTAMP:20260420T191901Z
DESCRIPTION:Stephanstag                                                    
                       Offen\n\nSonntag\, 26. Dez 21                       
       11:30 – 14:30 / 17:30 – 23:00\n
DTSTART:20211226T000000
DTEND:20211226T235900
ORGANIZER:MAILTO:Restaurant Asia Ratskeller <info@asiaratskeller.ch>
SUMMARY:Stephanstag - GEÖFFNET
END:VEVENT
END:VCALENDAR
