BEGIN:VCALENDAR
VERSION:2.0
PRODID:-//Restaurant Asia Ratskeller//NONSGML kigkonsult.se iCalcreator 2.1
 6.12//
METHOD:PUBLISH
X-MS-OLK-FORCEINSPECTOROPEN:TRUE
BEGIN:VEVENT
UID:20260420T211753CEST-8167wcOsW3@Restaurant Asia Ratskeller
DTSTAMP:20260420T191753Z
DESCRIPTION:Silvester (Silvestermenü)                                   Mit
 tag geschlossen\n\nFreitag\, 31. Dez 21                                   
               ab 17:30 - 23:30\n
DTSTART:20211231T000000
DTEND:20211231T235900
ORGANIZER:MAILTO:Restaurant Asia Ratskeller <info@asiaratskeller.ch>
SUMMARY:Silvester - GEÖFFNET
END:VEVENT
END:VCALENDAR
