BEGIN:VCALENDAR
VERSION:2.0
PRODID:-//Restaurant Asia Ratskeller//NONSGML kigkonsult.se iCalcreator 2.1
 6.12//
METHOD:PUBLISH
X-MS-OLK-FORCEINSPECTOROPEN:TRUE
BEGIN:VEVENT
UID:20260420T211608CEST-0494PBt2Lu@Restaurant Asia Ratskeller
DTSTAMP:20260420T191608Z
DESCRIPTION:Maria Empfängnis                                               
                   Offen\n\nMittwoch\, 8. Dez 21                           
  11:30 – 14:30 / 17:30 – 23:00\n\n \n
DTSTART:20211208T000000
DTEND:20211208T235900
ORGANIZER:MAILTO:Restaurant Asia Ratskeller <info@asiaratskeller.ch>
SUMMARY:Maria Empfängnis - GEÖFFNET
END:VEVENT
END:VCALENDAR
