BEGIN:VCALENDAR
VERSION:2.0
PRODID:-//Restaurant Asia Ratskeller//NONSGML kigkonsult.se iCalcreator 2.1
 6.12//
METHOD:PUBLISH
X-MS-OLK-FORCEINSPECTOROPEN:TRUE
BEGIN:VEVENT
UID:20260420T211204CEST-62884WEdWM@Restaurant Asia Ratskeller
DTSTAMP:20260420T191204Z
DESCRIPTION:Neujahr                                                        
      Mittag geschlossen\n\nSamstag\, 1. Jan 22                            
                      ab 17:30 - 23:30\n
DTSTART:20211231T000000
DTEND:20211231T235900
ORGANIZER:MAILTO:Restaurant Asia Ratskeller <info@asiaratskeller.ch>
SUMMARY:Neujahr - Abend GEÖFFNET
END:VEVENT
END:VCALENDAR
