BEGIN:VCALENDAR
VERSION:2.0
PRODID:-//Restaurant Asia Ratskeller//NONSGML kigkonsult.se iCalcreator 2.1
 6.12//
METHOD:PUBLISH
X-MS-OLK-FORCEINSPECTOROPEN:TRUE
BEGIN:VEVENT
UID:20260420T211501CEST-0774I5m4NR@Restaurant Asia Ratskeller
DTSTAMP:20260420T191501Z
DESCRIPTION:Sonntag\, 2. Jan 22      11:30 – 14:30 / 17:30 – 23:00
DTSTART:20220102T000000
DTEND:20220102T235900
ORGANIZER:MAILTO:Restaurant Asia Ratskeller <info@asiaratskeller.ch>
SUMMARY:2. Januar- GEÖFFNET
END:VEVENT
END:VCALENDAR
