BEGIN:VCALENDAR
VERSION:2.0
PRODID:-//Restaurant Asia Ratskeller//NONSGML kigkonsult.se iCalcreator 2.1
 6.12//
METHOD:PUBLISH
X-MS-OLK-FORCEINSPECTOROPEN:TRUE
BEGIN:VEVENT
UID:20260420T211332CEST-5137IP00FU@Restaurant Asia Ratskeller
DTSTAMP:20260420T191332Z
DESCRIPTION:Heilige drei Könige                                            
                    Offen\n\nSamstag\, 6. Jan 22                           
    11:30 – 14:30 / 17:30 – 23:30\n
DTSTART:20220106T000000
DTEND:20220106T235900
ORGANIZER:MAILTO:Restaurant Asia Ratskeller <info@asiaratskeller.ch>
SUMMARY:6. Januar- GEÖFFNET
END:VEVENT
END:VCALENDAR
