BEGIN:VCALENDAR
VERSION:2.0
PRODID:-//Restaurant Asia Ratskeller//NONSGML kigkonsult.se iCalcreator 2.1
 6.12//
METHOD:PUBLISH
X-MS-OLK-FORCEINSPECTOROPEN:TRUE
BEGIN:VEVENT
UID:20260420T211331CEST-7743u6xzAP@Restaurant Asia Ratskeller
DTSTAMP:20260420T191331Z
DESCRIPTION:Infoblatt
DTSTART:20220228T000000
DTEND:20220228T000000
ORGANIZER:MAILTO:Restaurant Asia Ratskeller <info@asiaratskeller.ch>
SUMMARY:Güdelmontag - GEÖFFNET
END:VEVENT
END:VCALENDAR
