BEGIN:VCALENDAR
VERSION:2.0
PRODID:-//Restaurant Asia Ratskeller//NONSGML kigkonsult.se iCalcreator 2.1
 6.12//
METHOD:PUBLISH
X-MS-OLK-FORCEINSPECTOROPEN:TRUE
BEGIN:VEVENT
UID:20260420T211036CEST-10572M1Vvi@Restaurant Asia Ratskeller
DTSTAMP:20260420T191036Z
DESCRIPTION:
DTSTART:20220301T000000
DTEND:20220301T000000
ORGANIZER:MAILTO:Restaurant Asia Ratskeller <info@asiaratskeller.ch>
SUMMARY:Güdeldienstag - GEÖFFNET
END:VEVENT
END:VCALENDAR
