BEGIN:VCALENDAR
VERSION:2.0
PRODID:-//Restaurant Asia Ratskeller//NONSGML kigkonsult.se iCalcreator 2.1
 6.12//
METHOD:PUBLISH
X-MS-OLK-FORCEINSPECTOROPEN:TRUE
BEGIN:VEVENT
UID:20260420T211311CEST-7377UuNVls@Restaurant Asia Ratskeller
DTSTAMP:20260420T191311Z
DESCRIPTION:
DTSTART:20220415T000000
DTEND:20220415T000000
ORGANIZER:MAILTO:Restaurant Asia Ratskeller <info@asiaratskeller.ch>
SUMMARY:Karfreitag - GEÖFFNET
END:VEVENT
END:VCALENDAR
