BEGIN:VCALENDAR
VERSION:2.0
PRODID:-//Restaurant Asia Ratskeller//NONSGML kigkonsult.se iCalcreator 2.1
 6.12//
METHOD:PUBLISH
X-MS-OLK-FORCEINSPECTOROPEN:TRUE
BEGIN:VEVENT
UID:20260420T211500CEST-1119a4RcVg@Restaurant Asia Ratskeller
DTSTAMP:20260420T191500Z
DESCRIPTION:
DTSTART:20220801T000000
DTEND:20220801T000000
ORGANIZER:MAILTO:Restaurant Asia Ratskeller <info@asiaratskeller.ch>
SUMMARY:Nationalfeiertag - GESCHLOSSEN
END:VEVENT
END:VCALENDAR
