BEGIN:VCALENDAR
VERSION:2.0
PRODID:-//Restaurant Asia Ratskeller//NONSGML kigkonsult.se iCalcreator 2.1
 6.12//
METHOD:PUBLISH
X-MS-OLK-FORCEINSPECTOROPEN:TRUE
BEGIN:VEVENT
UID:20260420T211536CEST-3807W2P91V@Restaurant Asia Ratskeller
DTSTAMP:20260420T191536Z
DESCRIPTION:
DTSTART:20220815T000000
DTEND:20220815T000000
ORGANIZER:MAILTO:Restaurant Asia Ratskeller <info@asiaratskeller.ch>
SUMMARY:Maria Himmelfahrt - GESCHLOSSEN
END:VEVENT
END:VCALENDAR
