BEGIN:VCALENDAR
VERSION:2.0
PRODID:-//Restaurant Asia Ratskeller//NONSGML kigkonsult.se iCalcreator 2.1
 6.12//
METHOD:PUBLISH
X-MS-OLK-FORCEINSPECTOROPEN:TRUE
BEGIN:VEVENT
UID:20260420T211608CEST-4300FTWGsj@Restaurant Asia Ratskeller
DTSTAMP:20260420T191608Z
DESCRIPTION:
DTSTART:20221101T000000
DTEND:20221101T000000
ORGANIZER:MAILTO:Restaurant Asia Ratskeller <info@asiaratskeller.ch>
SUMMARY:Allerheiligen - GEÖFFNET
END:VEVENT
END:VCALENDAR
