BEGIN:VCALENDAR
VERSION:2.0
PRODID:-//Restaurant Asia Ratskeller//NONSGML kigkonsult.se iCalcreator 2.1
 6.12//
METHOD:PUBLISH
X-MS-OLK-FORCEINSPECTOROPEN:TRUE
BEGIN:VEVENT
UID:20260420T211204CEST-8957zKdgbu@Restaurant Asia Ratskeller
DTSTAMP:20260420T191204Z
DESCRIPTION:
DTSTART:20221111T000000
DTEND:20221111T000000
ORGANIZER:MAILTO:Restaurant Asia Ratskeller <info@asiaratskeller.ch>
SUMMARY:Patroziniumsfest - GEÖFFNET
END:VEVENT
END:VCALENDAR
