BEGIN:VCALENDAR
VERSION:2.0
PRODID:-//Restaurant Asia Ratskeller//NONSGML kigkonsult.se iCalcreator 2.1
 6.12//
METHOD:PUBLISH
X-MS-OLK-FORCEINSPECTOROPEN:TRUE
BEGIN:VEVENT
UID:20260420T211332CEST-0505vc0hIe@Restaurant Asia Ratskeller
DTSTAMP:20260420T191332Z
DESCRIPTION:
DTSTART:20221208T000000
DTEND:20221208T000000
ORGANIZER:MAILTO:Restaurant Asia Ratskeller <info@asiaratskeller.ch>
SUMMARY:Maria Empfängnis - GEÖFFNET
END:VEVENT
END:VCALENDAR
