BEGIN:VCALENDAR
VERSION:2.0
PRODID:-//Restaurant Asia Ratskeller//NONSGML kigkonsult.se iCalcreator 2.1
 6.12//
METHOD:PUBLISH
X-MS-OLK-FORCEINSPECTOROPEN:TRUE
BEGIN:VEVENT
UID:20260420T211445CEST-826664VmKd@Restaurant Asia Ratskeller
DTSTAMP:20260420T191445Z
DESCRIPTION:
DTSTART:20221231T000000
DTEND:20221231T000000
ORGANIZER:MAILTO:Restaurant Asia Ratskeller <info@asiaratskeller.ch>
SUMMARY:SILVESTER - ab 17:00 GEÖFFNET
END:VEVENT
END:VCALENDAR
