BEGIN:VCALENDAR
VERSION:2.0
PRODID:-//Restaurant Asia Ratskeller//NONSGML kigkonsult.se iCalcreator 2.1
 6.12//
METHOD:PUBLISH
X-MS-OLK-FORCEINSPECTOROPEN:TRUE
BEGIN:VEVENT
UID:20260420T211444CEST-9037z0Urua@Restaurant Asia Ratskeller
DTSTAMP:20260420T191444Z
DESCRIPTION:Heilige drei Könige - GEÖFFNET
DTSTART:20230106T233000
DTEND:20230107T000000
ORGANIZER:MAILTO:Restaurant Asia Ratskeller <info@asiaratskeller.ch>
SUMMARY:Heilige drei Könige- GEÖFFNET
END:VEVENT
END:VCALENDAR
