BEGIN:VCALENDAR
VERSION:2.0
PRODID:-//Restaurant Asia Ratskeller//NONSGML kigkonsult.se iCalcreator 2.1
 6.12//
METHOD:PUBLISH
X-MS-OLK-FORCEINSPECTOROPEN:TRUE
BEGIN:VEVENT
UID:20260420T211409CEST-6709ZDJoUp@Restaurant Asia Ratskeller
DTSTAMP:20260420T191409Z
DESCRIPTION:erste Fasnacht - GEÖFFNET
DTSTART:20230109T233000
DTEND:20230110T000000
ORGANIZER:MAILTO:Restaurant Asia Ratskeller <info@asiaratskeller.ch>
SUMMARY:erste Fasnacht - GEÖFFNET
END:VEVENT
END:VCALENDAR
