BEGIN:VCALENDAR
VERSION:2.0
PRODID:-//Restaurant Asia Ratskeller//NONSGML kigkonsult.se iCalcreator 2.1
 6.12//
METHOD:PUBLISH
X-MS-OLK-FORCEINSPECTOROPEN:TRUE
BEGIN:VEVENT
UID:20260420T211445CEST-3270icMPi2@Restaurant Asia Ratskeller
DTSTAMP:20260420T191445Z
DESCRIPTION:Valentinstag - GEÖFFNET
DTSTART:20230214T000000
DTEND:20230214T003000
ORGANIZER:MAILTO:Restaurant Asia Ratskeller <info@asiaratskeller.ch>
SUMMARY:Valentinstag - GEÖFFNET
END:VEVENT
END:VCALENDAR
