BEGIN:VCALENDAR
VERSION:2.0
PRODID:-//Restaurant Asia Ratskeller//NONSGML kigkonsult.se iCalcreator 2.1
 6.12//
METHOD:PUBLISH
X-MS-OLK-FORCEINSPECTOROPEN:TRUE
BEGIN:VEVENT
UID:20260420T211331CEST-35667dKVzb@Restaurant Asia Ratskeller
DTSTAMP:20260420T191331Z
DESCRIPTION:Fasnachtsmontag - GEÖFFNET
DTSTART:20230220T000000
DTEND:20230220T003000
ORGANIZER:MAILTO:Restaurant Asia Ratskeller <info@asiaratskeller.ch>
SUMMARY:Fasnachtsmontag - GEÖFFNET
END:VEVENT
END:VCALENDAR
