BEGIN:VCALENDAR
VERSION:2.0
PRODID:-//Restaurant Asia Ratskeller//NONSGML kigkonsult.se iCalcreator 2.1
 6.12//
METHOD:PUBLISH
X-MS-OLK-FORCEINSPECTOROPEN:TRUE
BEGIN:VEVENT
UID:20260420T211747CEST-4855pmJxLW@Restaurant Asia Ratskeller
DTSTAMP:20260420T191747Z
DESCRIPTION:Fasnachtsdienstag - GEÖFFNET
DTSTART:20230221T000000
DTEND:20230221T003000
ORGANIZER:MAILTO:Restaurant Asia Ratskeller <info@asiaratskeller.ch>
SUMMARY:Fasnachtsdienstag - GEÖFFNET
END:VEVENT
END:VCALENDAR
