BEGIN:VCALENDAR
VERSION:2.0
PRODID:-//Restaurant Asia Ratskeller//NONSGML kigkonsult.se iCalcreator 2.1
 6.12//
METHOD:PUBLISH
X-MS-OLK-FORCEINSPECTOROPEN:TRUE
BEGIN:VEVENT
UID:20260420T211310CEST-8651TDfvuA@Restaurant Asia Ratskeller
DTSTAMP:20260420T191310Z
DESCRIPTION:St.Josef - GEÖFFNET
DTSTART:20230319T000000
DTEND:20230319T003000
ORGANIZER:MAILTO:Restaurant Asia Ratskeller <info@asiaratskeller.ch>
SUMMARY:St. Josef - GEÖFFNET
END:VEVENT
END:VCALENDAR
