BEGIN:VCALENDAR
VERSION:2.0
PRODID:-//Restaurant Asia Ratskeller//NONSGML kigkonsult.se iCalcreator 2.1
 6.12//
METHOD:PUBLISH
X-MS-OLK-FORCEINSPECTOROPEN:TRUE
BEGIN:VEVENT
UID:20260420T211408CEST-6269dcVaGZ@Restaurant Asia Ratskeller
DTSTAMP:20260420T191408Z
DESCRIPTION:Palmsonntag - GEÖFFNET
DTSTART:20230402T000000
DTEND:20230402T003000
ORGANIZER:MAILTO:Restaurant Asia Ratskeller <info@asiaratskeller.ch>
SUMMARY:Palmsonntag - GEÖFFNET
END:VEVENT
END:VCALENDAR
