BEGIN:VCALENDAR
VERSION:2.0
PRODID:-//Restaurant Asia Ratskeller//NONSGML kigkonsult.se iCalcreator 2.1
 6.12//
METHOD:PUBLISH
X-MS-OLK-FORCEINSPECTOROPEN:TRUE
BEGIN:VEVENT
UID:20260420T211656CEST-0872xk9WWK@Restaurant Asia Ratskeller
DTSTAMP:20260420T191656Z
DESCRIPTION:Ostern - GEÖFFNET
DTSTART:20230409T000000
DTEND:20230409T003000
ORGANIZER:MAILTO:Restaurant Asia Ratskeller <info@asiaratskeller.ch>
SUMMARY:Ostern - GEÖFFNET
END:VEVENT
END:VCALENDAR
