BEGIN:VCALENDAR
VERSION:2.0
PRODID:-//Restaurant Asia Ratskeller//NONSGML kigkonsult.se iCalcreator 2.1
 6.12//
METHOD:PUBLISH
X-MS-OLK-FORCEINSPECTOROPEN:TRUE
BEGIN:VEVENT
UID:20260420T211536CEST-88241i8UlB@Restaurant Asia Ratskeller
DTSTAMP:20260420T191536Z
DESCRIPTION:Ostermontag - GESCHLOSSEN
DTSTART:20230410T000000
DTEND:20230410T003000
ORGANIZER:MAILTO:Restaurant Asia Ratskeller <info@asiaratskeller.ch>
SUMMARY:Ostermontag - GESCHLOSSEN
END:VEVENT
END:VCALENDAR
