BEGIN:VCALENDAR
VERSION:2.0
PRODID:-//Restaurant Asia Ratskeller//NONSGML kigkonsult.se iCalcreator 2.1
 6.12//
METHOD:PUBLISH
X-MS-OLK-FORCEINSPECTOROPEN:TRUE
BEGIN:VEVENT
UID:20260420T211500CEST-3929kGb8mN@Restaurant Asia Ratskeller
DTSTAMP:20260420T191500Z
DESCRIPTION:Muttertag - GEÖFFNET
DTSTART:20230514T000000
DTEND:20230514T003000
ORGANIZER:MAILTO:Restaurant Asia Ratskeller <info@asiaratskeller.ch>
SUMMARY:Muttertag - GEÖFFNET
END:VEVENT
END:VCALENDAR
