BEGIN:VCALENDAR
VERSION:2.0
PRODID:-//Restaurant Asia Ratskeller//NONSGML kigkonsult.se iCalcreator 2.1
 6.12//
METHOD:PUBLISH
X-MS-OLK-FORCEINSPECTOROPEN:TRUE
BEGIN:VEVENT
UID:20260420T211656CEST-5728LmwV71@Restaurant Asia Ratskeller
DTSTAMP:20260420T191656Z
DESCRIPTION:Auffahrt-GEÖFFNET
DTSTART:20230518T000000
DTEND:20230518T235900
ORGANIZER:MAILTO:Restaurant Asia Ratskeller <info@asiaratskeller.ch>
SUMMARY:Auffahrt- GEÖFFNET
END:VEVENT
END:VCALENDAR
