BEGIN:VCALENDAR
VERSION:2.0
PRODID:-//Restaurant Asia Ratskeller//NONSGML kigkonsult.se iCalcreator 2.1
 6.12//
METHOD:PUBLISH
X-MS-OLK-FORCEINSPECTOROPEN:TRUE
BEGIN:VEVENT
UID:20260420T211607CEST-7817ANGU9P@Restaurant Asia Ratskeller
DTSTAMP:20260420T191607Z
DESCRIPTION:Pfingsten-GEÖFFNET
DTSTART:20230528T000000
DTEND:20230528T235900
ORGANIZER:MAILTO:Restaurant Asia Ratskeller <info@asiaratskeller.ch>
SUMMARY:Pfingsten- GEÖFFNET
END:VEVENT
END:VCALENDAR
