BEGIN:VCALENDAR
VERSION:2.0
PRODID:-//Restaurant Asia Ratskeller//NONSGML kigkonsult.se iCalcreator 2.1
 6.12//
METHOD:PUBLISH
X-MS-OLK-FORCEINSPECTOROPEN:TRUE
BEGIN:VEVENT
UID:20260420T193756CEST-2418jOuxmI@Restaurant Asia Ratskeller
DTSTAMP:20260420T173756Z
DESCRIPTION:Pfingstmontag- GESCHLOSSEN 
DTSTART:20230529T000000
DTEND:20230529T235900
ORGANIZER:MAILTO:Restaurant Asia Ratskeller <info@asiaratskeller.ch>
SUMMARY:Pfingstmontag-GESCHLOSSEN 
END:VEVENT
END:VCALENDAR
