BEGIN:VCALENDAR
VERSION:2.0
PRODID:-//Restaurant Asia Ratskeller//NONSGML kigkonsult.se iCalcreator 2.1
 6.12//
METHOD:PUBLISH
X-MS-OLK-FORCEINSPECTOROPEN:TRUE
BEGIN:VEVENT
UID:20260420T193710CEST-5749N3tVx0@Restaurant Asia Ratskeller
DTSTAMP:20260420T173710Z
DESCRIPTION:Fronleichnam-GEÖFFNET
DTSTART:20230608T000000
DTEND:20230608T235900
ORGANIZER:MAILTO:Restaurant Asia Ratskeller <info@asiaratskeller.ch>
SUMMARY:Fronleichnam- GEÖFFNET
END:VEVENT
END:VCALENDAR
