BEGIN:VCALENDAR
VERSION:2.0
PRODID:-//Restaurant Asia Ratskeller//NONSGML kigkonsult.se iCalcreator 2.1
 6.12//
METHOD:PUBLISH
X-MS-OLK-FORCEINSPECTOROPEN:TRUE
BEGIN:VEVENT
UID:20260420T193709CEST-0870SVMJib@Restaurant Asia Ratskeller
DTSTAMP:20260420T173709Z
DESCRIPTION:
DTSTART:20230623T000000
DTEND:20230624T000000
ORGANIZER:MAILTO:Restaurant Asia Ratskeller <info@asiaratskeller.ch>
SUMMARY:Jura Independence Day- GEÖFFNET
END:VEVENT
END:VCALENDAR
