BEGIN:VCALENDAR
VERSION:2.0
PRODID:-//Restaurant Asia Ratskeller//NONSGML kigkonsult.se iCalcreator 2.1
 6.12//
METHOD:PUBLISH
X-MS-OLK-FORCEINSPECTOROPEN:TRUE
BEGIN:VEVENT
UID:20260420T194210CEST-8775uzu5G2@Restaurant Asia Ratskeller
DTSTAMP:20260420T174210Z
DESCRIPTION:
DTSTART:20231111T183000
DTEND:20231111T190000
ORGANIZER:MAILTO:Restaurant Asia Ratskeller <info@asiaratskeller.ch>
SUMMARY:St. Martin- GEÖFFNET
END:VEVENT
END:VCALENDAR
