BEGIN:VCALENDAR
VERSION:2.0
PRODID:-//Restaurant Asia Ratskeller//NONSGML kigkonsult.se iCalcreator 2.1
 6.12//
METHOD:PUBLISH
X-MS-OLK-FORCEINSPECTOROPEN:TRUE
BEGIN:VEVENT
UID:20260420T193755CEST-0420jwUCpc@Restaurant Asia Ratskeller
DTSTAMP:20260420T173755Z
DESCRIPTION:Betrieb Ferien von 24. Juli bis 15. August . 2023
DTSTART:20230724T100000
DTEND:20230815T200000
ORGANIZER:MAILTO:Restaurant Asia Ratskeller <info@asiaratskeller.ch>
SUMMARY:Betrieb Ferien von 24.07 bis 15.08.2023
END:VEVENT
END:VCALENDAR
