BEGIN:VCALENDAR
VERSION:2.0
PRODID:-//Restaurant Asia Ratskeller//NONSGML kigkonsult.se iCalcreator 2.1
 6.12//
METHOD:PUBLISH
X-MS-OLK-FORCEINSPECTOROPEN:TRUE
BEGIN:VEVENT
UID:20260420T194209CEST-9106lscREM@Restaurant Asia Ratskeller
DTSTAMP:20260420T174209Z
DESCRIPTION:Unser Restaurant ist ab 17:30 Uhr offen\n
DTSTART:20240101T000000
DTEND:20240101T000000
ORGANIZER:MAILTO:Restaurant Asia Ratskeller <info@asiaratskeller.ch>
SUMMARY:Neujahr - Öffnungszeiten
END:VEVENT
END:VCALENDAR
