BEGIN:VCALENDAR
VERSION:2.0
PRODID:-//Restaurant Asia Ratskeller//NONSGML kigkonsult.se iCalcreator 2.1
 6.12//
METHOD:PUBLISH
X-MS-OLK-FORCEINSPECTOROPEN:TRUE
BEGIN:VEVENT
UID:20260420T194215CEST-3481uZtCNK@Restaurant Asia Ratskeller
DTSTAMP:20260420T174215Z
DESCRIPTION:Für den heutigen Feiertag gelten unsere normale Öffnungszeiten
 \n
DTSTART:20240106T000000
DTEND:20240106T000000
ORGANIZER:MAILTO:Restaurant Asia Ratskeller <info@asiaratskeller.ch>
SUMMARY:Heilige drei Könige - OFFEN 
END:VEVENT
END:VCALENDAR
