BEGIN:VCALENDAR
VERSION:2.0
PRODID:-//Restaurant Asia Ratskeller//NONSGML kigkonsult.se iCalcreator 2.1
 6.12//
METHOD:PUBLISH
X-MS-OLK-FORCEINSPECTOROPEN:TRUE
BEGIN:VEVENT
UID:20260420T193708CEST-5263HUiRue@Restaurant Asia Ratskeller
DTSTAMP:20260420T173708Z
DESCRIPTION:Unser Restaurant ist offen ab 11:00 Uhr bis 16:00 Uhr\n
DTSTART:20240115T000000
DTEND:20240115T000000
ORGANIZER:MAILTO:Restaurant Asia Ratskeller <info@asiaratskeller.ch>
SUMMARY:Erster Fasnachtstag-OFFEN 11:00-16:00Uhr  
END:VEVENT
END:VCALENDAR
