BEGIN:VCALENDAR
VERSION:2.0
PRODID:-//Restaurant Asia Ratskeller//NONSGML kigkonsult.se iCalcreator 2.1
 6.12//
METHOD:PUBLISH
X-MS-OLK-FORCEINSPECTOROPEN:TRUE
BEGIN:VEVENT
UID:20260420T193812CEST-4309DedAvV@Restaurant Asia Ratskeller
DTSTAMP:20260420T173812Z
DESCRIPTION:Unser Restaurant ist offen ab 11:30-16:00 und 17:30- 24:00 Uhr 
 \n
DTSTART:20240208T000000
DTEND:20240208T000000
ORGANIZER:MAILTO:Restaurant Asia Ratskeller <info@asiaratskeller.ch>
SUMMARY:Schmutziger Donnerstag OFFEN 11:30-16:00Uhr und 17:30-24:00Uhr
END:VEVENT
END:VCALENDAR
